BEGIN:VCALENDAR
VERSION:2.0
PRODID:-//RDA Consulting - ECPv6.15.12.2//NONSGML v1.0//EN
CALSCALE:GREGORIAN
METHOD:PUBLISH
X-WR-CALNAME:RDA Consulting
X-ORIGINAL-URL:https://www.rdaconsulting.net
X-WR-CALDESC:Events for RDA Consulting
REFRESH-INTERVAL;VALUE=DURATION:PT1H
X-Robots-Tag:noindex
X-PUBLISHED-TTL:PT1H
BEGIN:VTIMEZONE
TZID:Europe/London
BEGIN:DAYLIGHT
TZOFFSETFROM:+0000
TZOFFSETTO:+0100
TZNAME:BST
DTSTART:20240331T010000
END:DAYLIGHT
BEGIN:STANDARD
TZOFFSETFROM:+0100
TZOFFSETTO:+0000
TZNAME:GMT
DTSTART:20241027T010000
END:STANDARD
BEGIN:DAYLIGHT
TZOFFSETFROM:+0000
TZOFFSETTO:+0100
TZNAME:BST
DTSTART:20250330T010000
END:DAYLIGHT
BEGIN:STANDARD
TZOFFSETFROM:+0100
TZOFFSETTO:+0000
TZNAME:GMT
DTSTART:20251026T010000
END:STANDARD
BEGIN:DAYLIGHT
TZOFFSETFROM:+0000
TZOFFSETTO:+0100
TZNAME:BST
DTSTART:20260329T010000
END:DAYLIGHT
BEGIN:STANDARD
TZOFFSETFROM:+0100
TZOFFSETTO:+0000
TZNAME:GMT
DTSTART:20261025T010000
END:STANDARD
END:VTIMEZONE
BEGIN:VEVENT
DTSTART;TZID=Europe/London:20250703T090000
DTEND;TZID=Europe/London:20250704T173000
DTSTAMP:20260421T094212
CREATED:20240716T140416Z
LAST-MODIFIED:20240716T140416Z
UID:1165-1751533200-1751650200@www.rdaconsulting.net
SUMMARY:Applying Systems-Centered Theory and Methods in Organisations (2025 Session 2)
DESCRIPTION:Second of three two-day sessions: 27 & 28 February\, 3 & 4 July and 6 & 7 November 2025between 09.00 & 17.30 UK time \nThis is an ongoing group learning SCT theory and methods and applying them to our here-and-now experience and in participants’ work contexts. \nWe are open to new members until the group starts in February. \nDownload event flyer for full details. \nSCT® and Systems-Centered® are registered trademarks of the Systems-Centered Training and Research Institute Inc.\, a non-profit organisation.  \nREGISTER NOW
URL:https://www.rdaconsulting.net/event/applying-systems-centered-theory-and-methods-in-organisations-2025-session-2/
LOCATION:The Hydro Hotel\, Mount Road\, Eastbourne\, East Sussex\, BN20 7HZ\, United Kingdom
END:VEVENT
END:VCALENDAR