BEGIN:VCALENDAR
VERSION:2.0
PRODID:-//RDA Consulting - ECPv6.15.12.2//NONSGML v1.0//EN
CALSCALE:GREGORIAN
METHOD:PUBLISH
X-WR-CALNAME:RDA Consulting
X-ORIGINAL-URL:https://www.rdaconsulting.net
X-WR-CALDESC:Events for RDA Consulting
REFRESH-INTERVAL;VALUE=DURATION:PT1H
X-Robots-Tag:noindex
X-PUBLISHED-TTL:PT1H
BEGIN:VTIMEZONE
TZID:Europe/London
BEGIN:DAYLIGHT
TZOFFSETFROM:+0000
TZOFFSETTO:+0100
TZNAME:BST
DTSTART:20250330T010000
END:DAYLIGHT
BEGIN:STANDARD
TZOFFSETFROM:+0100
TZOFFSETTO:+0000
TZNAME:GMT
DTSTART:20251026T010000
END:STANDARD
BEGIN:DAYLIGHT
TZOFFSETFROM:+0000
TZOFFSETTO:+0100
TZNAME:BST
DTSTART:20260329T010000
END:DAYLIGHT
BEGIN:STANDARD
TZOFFSETFROM:+0100
TZOFFSETTO:+0000
TZNAME:GMT
DTSTART:20261025T010000
END:STANDARD
BEGIN:DAYLIGHT
TZOFFSETFROM:+0000
TZOFFSETTO:+0100
TZNAME:BST
DTSTART:20270328T010000
END:DAYLIGHT
BEGIN:STANDARD
TZOFFSETFROM:+0100
TZOFFSETTO:+0000
TZNAME:GMT
DTSTART:20271031T010000
END:STANDARD
END:VTIMEZONE
BEGIN:VEVENT
DTSTART;TZID=Europe/London:20261008T084500
DTEND;TZID=Europe/London:20261009T164500
DTSTAMP:20260422T160840
CREATED:20251217T125839Z
LAST-MODIFIED:20251221T114212Z
UID:1240-1791449100-1791564300@www.rdaconsulting.net
SUMMARY:SAVI® Workshop - Patterns Not People
DESCRIPTION:Led by Rowena Davis & Paula Nordhauzen\nTake the next step in your SAVI training & build muscle producing & coding patterns to ‘get’ their impact on our ability to communicate. \nIn this two-day Workshop\, we will:  \n\nPractise seeing the communication patterns\, not the people\nExplore through the SAVI lens the impact of different verbal patterns\nDiscover ways to reduce ‘noise’ so more information gets heard & problems are solved more easily\nBuild an exploratory\, collaborative learning climate & have fun\n\nWho\nOpen to those who’ve done the SAVI Introductory workshop. \nWhere\nTiming: 08.45 – 16.45 UK time\nLocation: Zoom \nFees\nEarly Bird Discount until August 1st\nSelf-Employed / Voluntary / Public Sectors: up to August 1st\, £460; after August 1st 2026\, £485.\nOthers: up to August 1st 2026\, £560; after August 1st 2026\, £585. \nWe have a limited number of bursaries. To apply & for questions: rdavis@rdaconsulting.net                         \nRegister online now →
URL:https://www.rdaconsulting.net/event/savi-workshop-patterns-not-people-2026/
LOCATION:Online via Zoom
END:VEVENT
BEGIN:VEVENT
DTSTART;TZID=Europe/London:20261022T090000
DTEND;TZID=Europe/London:20261023T173000
DTSTAMP:20260422T160840
CREATED:20250501T092517Z
LAST-MODIFIED:20250509T073007Z
UID:1219-1792659600-1792776600@www.rdaconsulting.net
SUMMARY:Applying Systems-Centered Theory and Methods in Organisations (2026 Session 3)
DESCRIPTION:Third of three two-day sessions:  19 & 20 March\, 2 & 3 July and 22 & 23 October 2026 between 09.00 & 17.30 UK time \nThis is an ongoing group learning SCT theory and methods and applying them to our here-and-now experience and in participants’ work contexts. \nWe are open to new members until the group starts in March. \nDownload event flyer for full details. \nSCT® and Systems-Centered® are registered trademarks of the Systems-Centered Training and Research Institute Inc.\, a non-profit organisation.  \nREGISTER NOW
URL:https://www.rdaconsulting.net/event/applying-systems-centered-theory-and-methods-in-organisations-2026-session-3/
LOCATION:The Hydro Hotel\, Mount Road\, Eastbourne\, East Sussex\, BN20 7HZ\, United Kingdom
END:VEVENT
END:VCALENDAR